{
 "currentVersion": 10.41,
 "serviceDescription": "Datailed Basemap web service is a multi level cache service that is use as a background for the City of Avondale web maps.",
 "mapName": "Layers",
 "description": "",
 "copyrightText": "",
 "supportsDynamicLayers": true,
 "layers": [
  {
   "id": 0,
   "name": "1K",
   "parentLayerId": -1,
   "defaultVisibility": true,
   "subLayerIds": [
    1,
    3,
    4,
    5,
    6,
    7,
    8,
    9,
    10,
    11,
    12,
    13,
    14,
    15,
    16,
    17,
    18,
    19,
    20,
    21,
    22,
    23,
    24,
    25
   ],
   "minScale": 1999,
   "maxScale": 0
  },
  {
   "id": 1,
   "name": "ADDRESS_ANNO",
   "parentLayerId": 0,
   "defaultVisibility": false,
   "subLayerIds": [
    2
   ],
   "minScale": 0,
   "maxScale": 0
  },
  {
   "id": 2,
   "name": "ADDRESS_ANNO",
   "parentLayerId": 1,
   "defaultVisibility": true,
   "subLayerIds": null,
   "minScale": 0,
   "maxScale": 0
  },
  {
   "id": 3,
   "name": "STATE ROUTE TEXT",
   "parentLayerId": 0,
   "defaultVisibility": false,
   "subLayerIds": null,
   "minScale": 0,
   "maxScale": 0
  },
  {
   "id": 4,
   "name": "INTERSTATE TEXT",
   "parentLayerId": 0,
   "defaultVisibility": false,
   "subLayerIds": null,
   "minScale": 0,
   "maxScale": 0
  },
  {
   "id": 5,
   "name": "RIVER TEXT",
   "parentLayerId": 0,
   "defaultVisibility": false,
   "subLayerIds": null,
   "minScale": 0,
   "maxScale": 0
  },
  {
   "id": 6,
   "name": "LAKES",
   "parentLayerId": 0,
   "defaultVisibility": true,
   "subLayerIds": null,
   "minScale": 0,
   "maxScale": 0
  },
  {
   "id": 7,
   "name": "TREES",
   "parentLayerId": 0,
   "defaultVisibility": true,
   "subLayerIds": null,
   "minScale": 0,
   "maxScale": 0
  },
  {
   "id": 8,
   "name": "STRUCTURES",
   "parentLayerId": 0,
   "defaultVisibility": true,
   "subLayerIds": null,
   "minScale": 39000,
   "maxScale": 0
  },
  {
   "id": 9,
   "name": "DRIVEWAYS",
   "parentLayerId": 0,
   "defaultVisibility": true,
   "subLayerIds": null,
   "minScale": 0,
   "maxScale": 0
  },
  {
   "id": 10,
   "name": "TRAILS",
   "parentLayerId": 0,
   "defaultVisibility": true,
   "subLayerIds": null,
   "minScale": 0,
   "maxScale": 0
  },
  {
   "id": 11,
   "name": "RAILROADS",
   "parentLayerId": 0,
   "defaultVisibility": true,
   "subLayerIds": null,
   "minScale": 0,
   "maxScale": 0
  },
  {
   "id": 12,
   "name": "SIDEWALKS",
   "parentLayerId": 0,
   "defaultVisibility": true,
   "subLayerIds": null,
   "minScale": 0,
   "maxScale": 0
  },
  {
   "id": 13,
   "name": "POOLS",
   "parentLayerId": 0,
   "defaultVisibility": true,
   "subLayerIds": null,
   "minScale": 0,
   "maxScale": 0
  },
  {
   "id": 14,
   "name": "CONCRETE_PADS",
   "parentLayerId": 0,
   "defaultVisibility": true,
   "subLayerIds": null,
   "minScale": 0,
   "maxScale": 0
  },
  {
   "id": 15,
   "name": "STRUCTURES",
   "parentLayerId": 0,
   "defaultVisibility": true,
   "subLayerIds": null,
   "minScale": 0,
   "maxScale": 0
  },
  {
   "id": 16,
   "name": "STREETS",
   "parentLayerId": 0,
   "defaultVisibility": true,
   "subLayerIds": null,
   "minScale": 15000,
   "maxScale": 0
  },
  {
   "id": 17,
   "name": "PAVEMENT_EDGE",
   "parentLayerId": 0,
   "defaultVisibility": true,
   "subLayerIds": null,
   "minScale": 0,
   "maxScale": 0
  },
  {
   "id": 18,
   "name": "RIVERS",
   "parentLayerId": 0,
   "defaultVisibility": true,
   "subLayerIds": null,
   "minScale": 0,
   "maxScale": 0
  },
  {
   "id": 19,
   "name": "PARCEL LINES",
   "parentLayerId": 0,
   "defaultVisibility": false,
   "subLayerIds": null,
   "minScale": 0,
   "maxScale": 0
  },
  {
   "id": 20,
   "name": "GOLF_COURSE",
   "parentLayerId": 0,
   "defaultVisibility": true,
   "subLayerIds": null,
   "minScale": 0,
   "maxScale": 0
  },
  {
   "id": 21,
   "name": "RECREATION",
   "parentLayerId": 0,
   "defaultVisibility": true,
   "subLayerIds": null,
   "minScale": 0,
   "maxScale": 0
  },
  {
   "id": 22,
   "name": "PARKS",
   "parentLayerId": 0,
   "defaultVisibility": true,
   "subLayerIds": null,
   "minScale": 0,
   "maxScale": 0
  },
  {
   "id": 23,
   "name": "PARKING",
   "parentLayerId": 0,
   "defaultVisibility": true,
   "subLayerIds": null,
   "minScale": 0,
   "maxScale": 0
  },
  {
   "id": 24,
   "name": "PARCEL HATCH",
   "parentLayerId": 0,
   "defaultVisibility": false,
   "subLayerIds": null,
   "minScale": 0,
   "maxScale": 0
  },
  {
   "id": 25,
   "name": "TKOGREY",
   "parentLayerId": 0,
   "defaultVisibility": true,
   "subLayerIds": null,
   "minScale": 0,
   "maxScale": 0
  },
  {
   "id": 26,
   "name": "2K",
   "parentLayerId": -1,
   "defaultVisibility": true,
   "subLayerIds": [
    27,
    28,
    29,
    30,
    31,
    32,
    33,
    34,
    35,
    36,
    37,
    38,
    39,
    40,
    41,
    42
   ],
   "minScale": 3999,
   "maxScale": 2000
  },
  {
   "id": 27,
   "name": "STATE ROUTE TEXT",
   "parentLayerId": 26,
   "defaultVisibility": false,
   "subLayerIds": null,
   "minScale": 0,
   "maxScale": 0
  },
  {
   "id": 28,
   "name": "INTERSTATE TEXT",
   "parentLayerId": 26,
   "defaultVisibility": false,
   "subLayerIds": null,
   "minScale": 0,
   "maxScale": 0
  },
  {
   "id": 29,
   "name": "RIVER TEXT",
   "parentLayerId": 26,
   "defaultVisibility": false,
   "subLayerIds": null,
   "minScale": 0,
   "maxScale": 0
  },
  {
   "id": 30,
   "name": "LAKES",
   "parentLayerId": 26,
   "defaultVisibility": true,
   "subLayerIds": null,
   "minScale": 0,
   "maxScale": 0
  },
  {
   "id": 31,
   "name": "STRUCTURES",
   "parentLayerId": 26,
   "defaultVisibility": true,
   "subLayerIds": null,
   "minScale": 39000,
   "maxScale": 0
  },
  {
   "id": 32,
   "name": "POOLS",
   "parentLayerId": 26,
   "defaultVisibility": true,
   "subLayerIds": null,
   "minScale": 501,
   "maxScale": 0
  },
  {
   "id": 33,
   "name": "CONCRETE_PADS",
   "parentLayerId": 26,
   "defaultVisibility": true,
   "subLayerIds": null,
   "minScale": 501,
   "maxScale": 0
  },
  {
   "id": 34,
   "name": "STRUCTURES",
   "parentLayerId": 26,
   "defaultVisibility": true,
   "subLayerIds": null,
   "minScale": 1001,
   "maxScale": 0
  },
  {
   "id": 35,
   "name": "STREETS",
   "parentLayerId": 26,
   "defaultVisibility": true,
   "subLayerIds": null,
   "minScale": 15000,
   "maxScale": 0
  },
  {
   "id": 36,
   "name": "RIVERS",
   "parentLayerId": 26,
   "defaultVisibility": true,
   "subLayerIds": null,
   "minScale": 0,
   "maxScale": 0
  },
  {
   "id": 37,
   "name": "PARCEL LINES",
   "parentLayerId": 26,
   "defaultVisibility": false,
   "subLayerIds": null,
   "minScale": 0,
   "maxScale": 0
  },
  {
   "id": 38,
   "name": "GOLF_COURSE",
   "parentLayerId": 26,
   "defaultVisibility": true,
   "subLayerIds": null,
   "minScale": 0,
   "maxScale": 0
  },
  {
   "id": 39,
   "name": "PARKS",
   "parentLayerId": 26,
   "defaultVisibility": true,
   "subLayerIds": null,
   "minScale": 0,
   "maxScale": 0
  },
  {
   "id": 40,
   "name": "PARCEL HATCH",
   "parentLayerId": 26,
   "defaultVisibility": false,
   "subLayerIds": null,
   "minScale": 0,
   "maxScale": 0
  },
  {
   "id": 41,
   "name": "PAVEMENT_EDGE",
   "parentLayerId": 26,
   "defaultVisibility": true,
   "subLayerIds": null,
   "minScale": 0,
   "maxScale": 0
  },
  {
   "id": 42,
   "name": "TKOGREY",
   "parentLayerId": 26,
   "defaultVisibility": true,
   "subLayerIds": null,
   "minScale": 0,
   "maxScale": 0
  },
  {
   "id": 43,
   "name": "4K",
   "parentLayerId": -1,
   "defaultVisibility": true,
   "subLayerIds": [
    44,
    45,
    46,
    47,
    48,
    49,
    50,
    51,
    52,
    53,
    54,
    55,
    56,
    57,
    58,
    59
   ],
   "minScale": 7999,
   "maxScale": 4000
  },
  {
   "id": 44,
   "name": "STATE ROUTE TEXT",
   "parentLayerId": 43,
   "defaultVisibility": false,
   "subLayerIds": null,
   "minScale": 0,
   "maxScale": 0
  },
  {
   "id": 45,
   "name": "INTERSTATE TEXT",
   "parentLayerId": 43,
   "defaultVisibility": false,
   "subLayerIds": null,
   "minScale": 0,
   "maxScale": 0
  },
  {
   "id": 46,
   "name": "RIVER TEXT",
   "parentLayerId": 43,
   "defaultVisibility": false,
   "subLayerIds": null,
   "minScale": 0,
   "maxScale": 0
  },
  {
   "id": 47,
   "name": "LAKES",
   "parentLayerId": 43,
   "defaultVisibility": true,
   "subLayerIds": null,
   "minScale": 0,
   "maxScale": 0
  },
  {
   "id": 48,
   "name": "STRUCTURES",
   "parentLayerId": 43,
   "defaultVisibility": true,
   "subLayerIds": null,
   "minScale": 39000,
   "maxScale": 0
  },
  {
   "id": 49,
   "name": "POOLS",
   "parentLayerId": 43,
   "defaultVisibility": true,
   "subLayerIds": null,
   "minScale": 501,
   "maxScale": 0
  },
  {
   "id": 50,
   "name": "CONCRETE_PADS",
   "parentLayerId": 43,
   "defaultVisibility": true,
   "subLayerIds": null,
   "minScale": 501,
   "maxScale": 0
  },
  {
   "id": 51,
   "name": "STRUCTURES",
   "parentLayerId": 43,
   "defaultVisibility": true,
   "subLayerIds": null,
   "minScale": 1001,
   "maxScale": 0
  },
  {
   "id": 52,
   "name": "STREETS",
   "parentLayerId": 43,
   "defaultVisibility": true,
   "subLayerIds": null,
   "minScale": 15000,
   "maxScale": 0
  },
  {
   "id": 53,
   "name": "RIVERS",
   "parentLayerId": 43,
   "defaultVisibility": true,
   "subLayerIds": null,
   "minScale": 0,
   "maxScale": 0
  },
  {
   "id": 54,
   "name": "PARCEL LINES",
   "parentLayerId": 43,
   "defaultVisibility": false,
   "subLayerIds": null,
   "minScale": 0,
   "maxScale": 0
  },
  {
   "id": 55,
   "name": "GOLF_COURSE",
   "parentLayerId": 43,
   "defaultVisibility": true,
   "subLayerIds": null,
   "minScale": 0,
   "maxScale": 0
  },
  {
   "id": 56,
   "name": "PARKS",
   "parentLayerId": 43,
   "defaultVisibility": true,
   "subLayerIds": null,
   "minScale": 0,
   "maxScale": 0
  },
  {
   "id": 57,
   "name": "PARCEL HATCH",
   "parentLayerId": 43,
   "defaultVisibility": false,
   "subLayerIds": null,
   "minScale": 0,
   "maxScale": 0
  },
  {
   "id": 58,
   "name": "PAVEMENT_EDGE",
   "parentLayerId": 43,
   "defaultVisibility": true,
   "subLayerIds": null,
   "minScale": 0,
   "maxScale": 0
  },
  {
   "id": 59,
   "name": "TKOGREY",
   "parentLayerId": 43,
   "defaultVisibility": true,
   "subLayerIds": null,
   "minScale": 0,
   "maxScale": 0
  },
  {
   "id": 60,
   "name": "8K",
   "parentLayerId": -1,
   "defaultVisibility": true,
   "subLayerIds": [
    61,
    62,
    63,
    64,
    65,
    66,
    67,
    68,
    69,
    70,
    71,
    72,
    73,
    74,
    75,
    76
   ],
   "minScale": 15999,
   "maxScale": 8000
  },
  {
   "id": 61,
   "name": "STATE ROUTE TEXT",
   "parentLayerId": 60,
   "defaultVisibility": false,
   "subLayerIds": null,
   "minScale": 0,
   "maxScale": 0
  },
  {
   "id": 62,
   "name": "INTERSTATE TEXT",
   "parentLayerId": 60,
   "defaultVisibility": false,
   "subLayerIds": null,
   "minScale": 0,
   "maxScale": 0
  },
  {
   "id": 63,
   "name": "RIVER TEXT",
   "parentLayerId": 60,
   "defaultVisibility": false,
   "subLayerIds": null,
   "minScale": 0,
   "maxScale": 0
  },
  {
   "id": 64,
   "name": "LAKES",
   "parentLayerId": 60,
   "defaultVisibility": true,
   "subLayerIds": null,
   "minScale": 0,
   "maxScale": 0
  },
  {
   "id": 65,
   "name": "STRUCTURES",
   "parentLayerId": 60,
   "defaultVisibility": true,
   "subLayerIds": null,
   "minScale": 39000,
   "maxScale": 0
  },
  {
   "id": 66,
   "name": "POOLS",
   "parentLayerId": 60,
   "defaultVisibility": true,
   "subLayerIds": null,
   "minScale": 501,
   "maxScale": 0
  },
  {
   "id": 67,
   "name": "CONCRETE_PADS",
   "parentLayerId": 60,
   "defaultVisibility": true,
   "subLayerIds": null,
   "minScale": 501,
   "maxScale": 0
  },
  {
   "id": 68,
   "name": "STRUCTURES",
   "parentLayerId": 60,
   "defaultVisibility": true,
   "subLayerIds": null,
   "minScale": 1001,
   "maxScale": 0
  },
  {
   "id": 69,
   "name": "STREETS",
   "parentLayerId": 60,
   "defaultVisibility": true,
   "subLayerIds": null,
   "minScale": 0,
   "maxScale": 0
  },
  {
   "id": 70,
   "name": "STREETS",
   "parentLayerId": 60,
   "defaultVisibility": true,
   "subLayerIds": null,
   "minScale": 0,
   "maxScale": 0
  },
  {
   "id": 71,
   "name": "RIVERS",
   "parentLayerId": 60,
   "defaultVisibility": true,
   "subLayerIds": null,
   "minScale": 0,
   "maxScale": 0
  },
  {
   "id": 72,
   "name": "PARCEL LINES",
   "parentLayerId": 60,
   "defaultVisibility": false,
   "subLayerIds": null,
   "minScale": 0,
   "maxScale": 0
  },
  {
   "id": 73,
   "name": "GOLF_COURSE",
   "parentLayerId": 60,
   "defaultVisibility": true,
   "subLayerIds": null,
   "minScale": 0,
   "maxScale": 0
  },
  {
   "id": 74,
   "name": "PARKS",
   "parentLayerId": 60,
   "defaultVisibility": true,
   "subLayerIds": null,
   "minScale": 0,
   "maxScale": 0
  },
  {
   "id": 75,
   "name": "PARCEL HATCH",
   "parentLayerId": 60,
   "defaultVisibility": false,
   "subLayerIds": null,
   "minScale": 0,
   "maxScale": 0
  },
  {
   "id": 76,
   "name": "TKOGREY",
   "parentLayerId": 60,
   "defaultVisibility": true,
   "subLayerIds": null,
   "minScale": 0,
   "maxScale": 2001
  },
  {
   "id": 77,
   "name": "16K",
   "parentLayerId": -1,
   "defaultVisibility": true,
   "subLayerIds": [
    78,
    79,
    80,
    81,
    82,
    83,
    84,
    85,
    86,
    87,
    88,
    89,
    90,
    91,
    92,
    93,
    94
   ],
   "minScale": 31999,
   "maxScale": 16000
  },
  {
   "id": 78,
   "name": "STATE ROUTE TEXT",
   "parentLayerId": 77,
   "defaultVisibility": false,
   "subLayerIds": null,
   "minScale": 0,
   "maxScale": 0
  },
  {
   "id": 79,
   "name": "INTERSTATE TEXT",
   "parentLayerId": 77,
   "defaultVisibility": false,
   "subLayerIds": null,
   "minScale": 0,
   "maxScale": 0
  },
  {
   "id": 80,
   "name": "RIVER TEXT",
   "parentLayerId": 77,
   "defaultVisibility": false,
   "subLayerIds": null,
   "minScale": 0,
   "maxScale": 0
  },
  {
   "id": 81,
   "name": "LAKES",
   "parentLayerId": 77,
   "defaultVisibility": true,
   "subLayerIds": null,
   "minScale": 0,
   "maxScale": 0
  },
  {
   "id": 82,
   "name": "STRUCTURES",
   "parentLayerId": 77,
   "defaultVisibility": true,
   "subLayerIds": null,
   "minScale": 39000,
   "maxScale": 0
  },
  {
   "id": 83,
   "name": "POOLS",
   "parentLayerId": 77,
   "defaultVisibility": false,
   "subLayerIds": null,
   "minScale": 0,
   "maxScale": 0
  },
  {
   "id": 84,
   "name": "CONCRETE_PADS",
   "parentLayerId": 77,
   "defaultVisibility": false,
   "subLayerIds": null,
   "minScale": 0,
   "maxScale": 0
  },
  {
   "id": 85,
   "name": "STRUCTURES",
   "parentLayerId": 77,
   "defaultVisibility": false,
   "subLayerIds": null,
   "minScale": 0,
   "maxScale": 0
  },
  {
   "id": 86,
   "name": "STREETS",
   "parentLayerId": 77,
   "defaultVisibility": true,
   "subLayerIds": null,
   "minScale": 0,
   "maxScale": 0
  },
  {
   "id": 87,
   "name": "STREETS",
   "parentLayerId": 77,
   "defaultVisibility": true,
   "subLayerIds": null,
   "minScale": 0,
   "maxScale": 0
  },
  {
   "id": 88,
   "name": "STREETS",
   "parentLayerId": 77,
   "defaultVisibility": true,
   "subLayerIds": null,
   "minScale": 15000,
   "maxScale": 0
  },
  {
   "id": 89,
   "name": "RIVERS",
   "parentLayerId": 77,
   "defaultVisibility": true,
   "subLayerIds": null,
   "minScale": 0,
   "maxScale": 0
  },
  {
   "id": 90,
   "name": "PARCEL LINES",
   "parentLayerId": 77,
   "defaultVisibility": false,
   "subLayerIds": null,
   "minScale": 0,
   "maxScale": 0
  },
  {
   "id": 91,
   "name": "GOLF_COURSE",
   "parentLayerId": 77,
   "defaultVisibility": true,
   "subLayerIds": null,
   "minScale": 0,
   "maxScale": 0
  },
  {
   "id": 92,
   "name": "PARKS",
   "parentLayerId": 77,
   "defaultVisibility": true,
   "subLayerIds": null,
   "minScale": 0,
   "maxScale": 0
  },
  {
   "id": 93,
   "name": "PARCEL HATCH",
   "parentLayerId": 77,
   "defaultVisibility": true,
   "subLayerIds": null,
   "minScale": 0,
   "maxScale": 0
  },
  {
   "id": 94,
   "name": "TKOGREY",
   "parentLayerId": 77,
   "defaultVisibility": true,
   "subLayerIds": null,
   "minScale": 0,
   "maxScale": 2001
  },
  {
   "id": 95,
   "name": "32K",
   "parentLayerId": -1,
   "defaultVisibility": true,
   "subLayerIds": [
    96,
    97,
    98,
    99,
    100,
    101,
    102,
    103,
    104,
    105,
    106,
    107,
    108,
    109,
    110,
    111
   ],
   "minScale": 49999,
   "maxScale": 32000
  },
  {
   "id": 96,
   "name": "STATE ROUTE TEXT",
   "parentLayerId": 95,
   "defaultVisibility": false,
   "subLayerIds": null,
   "minScale": 0,
   "maxScale": 0
  },
  {
   "id": 97,
   "name": "INTERSTATE TEXT",
   "parentLayerId": 95,
   "defaultVisibility": false,
   "subLayerIds": null,
   "minScale": 0,
   "maxScale": 0
  },
  {
   "id": 98,
   "name": "RIVER TEXT",
   "parentLayerId": 95,
   "defaultVisibility": false,
   "subLayerIds": null,
   "minScale": 0,
   "maxScale": 0
  },
  {
   "id": 99,
   "name": "LAKES",
   "parentLayerId": 95,
   "defaultVisibility": true,
   "subLayerIds": null,
   "minScale": 0,
   "maxScale": 0
  },
  {
   "id": 100,
   "name": "STRUCTURES",
   "parentLayerId": 95,
   "defaultVisibility": true,
   "subLayerIds": null,
   "minScale": 39000,
   "maxScale": 0
  },
  {
   "id": 101,
   "name": "POOLS",
   "parentLayerId": 95,
   "defaultVisibility": false,
   "subLayerIds": null,
   "minScale": 49999,
   "maxScale": 16001
  },
  {
   "id": 102,
   "name": "CONCRETE_PADS",
   "parentLayerId": 95,
   "defaultVisibility": true,
   "subLayerIds": null,
   "minScale": 501,
   "maxScale": 0
  },
  {
   "id": 103,
   "name": "STRUCTURES",
   "parentLayerId": 95,
   "defaultVisibility": true,
   "subLayerIds": null,
   "minScale": 1001,
   "maxScale": 0
  },
  {
   "id": 104,
   "name": "STREETS",
   "parentLayerId": 95,
   "defaultVisibility": true,
   "subLayerIds": null,
   "minScale": 49999,
   "maxScale": 16001
  },
  {
   "id": 105,
   "name": "STREETS",
   "parentLayerId": 95,
   "defaultVisibility": true,
   "subLayerIds": null,
   "minScale": 49999,
   "maxScale": 16001
  },
  {
   "id": 106,
   "name": "RIVERS",
   "parentLayerId": 95,
   "defaultVisibility": true,
   "subLayerIds": null,
   "minScale": 0,
   "maxScale": 0
  },
  {
   "id": 107,
   "name": "PARCEL LINES",
   "parentLayerId": 95,
   "defaultVisibility": false,
   "subLayerIds": null,
   "minScale": 0,
   "maxScale": 0
  },
  {
   "id": 108,
   "name": "GOLF_COURSE",
   "parentLayerId": 95,
   "defaultVisibility": true,
   "subLayerIds": null,
   "minScale": 0,
   "maxScale": 0
  },
  {
   "id": 109,
   "name": "PARKS",
   "parentLayerId": 95,
   "defaultVisibility": true,
   "subLayerIds": null,
   "minScale": 0,
   "maxScale": 0
  },
  {
   "id": 110,
   "name": "PARCEL HATCH",
   "parentLayerId": 95,
   "defaultVisibility": false,
   "subLayerIds": null,
   "minScale": 0,
   "maxScale": 0
  },
  {
   "id": 111,
   "name": "TKOGREY",
   "parentLayerId": 95,
   "defaultVisibility": true,
   "subLayerIds": null,
   "minScale": 49999,
   "maxScale": 16001
  },
  {
   "id": 112,
   "name": "50K",
   "parentLayerId": -1,
   "defaultVisibility": true,
   "subLayerIds": [
    113,
    114,
    115,
    116,
    117,
    118,
    119,
    120,
    121,
    122,
    123,
    124,
    125,
    126,
    127,
    128
   ],
   "minScale": 0,
   "maxScale": 50000
  },
  {
   "id": 113,
   "name": "STATE ROUTE TEXT",
   "parentLayerId": 112,
   "defaultVisibility": false,
   "subLayerIds": null,
   "minScale": 0,
   "maxScale": 0
  },
  {
   "id": 114,
   "name": "INTERSTATE TEXT",
   "parentLayerId": 112,
   "defaultVisibility": false,
   "subLayerIds": null,
   "minScale": 0,
   "maxScale": 0
  },
  {
   "id": 115,
   "name": "RIVER TEXT",
   "parentLayerId": 112,
   "defaultVisibility": false,
   "subLayerIds": null,
   "minScale": 0,
   "maxScale": 0
  },
  {
   "id": 116,
   "name": "LAKES",
   "parentLayerId": 112,
   "defaultVisibility": true,
   "subLayerIds": null,
   "minScale": 0,
   "maxScale": 0
  },
  {
   "id": 117,
   "name": "STRUCTURES",
   "parentLayerId": 112,
   "defaultVisibility": true,
   "subLayerIds": null,
   "minScale": 49999,
   "maxScale": 0
  },
  {
   "id": 118,
   "name": "POOLS",
   "parentLayerId": 112,
   "defaultVisibility": true,
   "subLayerIds": null,
   "minScale": 49999,
   "maxScale": 0
  },
  {
   "id": 119,
   "name": "CONCRETE_PADS",
   "parentLayerId": 112,
   "defaultVisibility": true,
   "subLayerIds": null,
   "minScale": 49999,
   "maxScale": 0
  },
  {
   "id": 120,
   "name": "STRUCTURES",
   "parentLayerId": 112,
   "defaultVisibility": true,
   "subLayerIds": null,
   "minScale": 49999,
   "maxScale": 0
  },
  {
   "id": 121,
   "name": "STREETS",
   "parentLayerId": 112,
   "defaultVisibility": true,
   "subLayerIds": null,
   "minScale": 0,
   "maxScale": 49999
  },
  {
   "id": 122,
   "name": "STREETS",
   "parentLayerId": 112,
   "defaultVisibility": true,
   "subLayerIds": null,
   "minScale": 0,
   "maxScale": 49999
  },
  {
   "id": 123,
   "name": "RIVERS",
   "parentLayerId": 112,
   "defaultVisibility": true,
   "subLayerIds": null,
   "minScale": 0,
   "maxScale": 0
  },
  {
   "id": 124,
   "name": "PARCEL LINES",
   "parentLayerId": 112,
   "defaultVisibility": true,
   "subLayerIds": null,
   "minScale": 49999,
   "maxScale": 0
  },
  {
   "id": 125,
   "name": "GOLF_COURSE",
   "parentLayerId": 112,
   "defaultVisibility": true,
   "subLayerIds": null,
   "minScale": 0,
   "maxScale": 0
  },
  {
   "id": 126,
   "name": "PARKS",
   "parentLayerId": 112,
   "defaultVisibility": true,
   "subLayerIds": null,
   "minScale": 0,
   "maxScale": 0
  },
  {
   "id": 127,
   "name": "PARCEL HATCH",
   "parentLayerId": 112,
   "defaultVisibility": true,
   "subLayerIds": null,
   "minScale": 49999,
   "maxScale": 0
  },
  {
   "id": 128,
   "name": "TKOGREY",
   "parentLayerId": 112,
   "defaultVisibility": true,
   "subLayerIds": null,
   "minScale": 0,
   "maxScale": 49999
  }
 ],
 "tables": [],
 "spatialReference": {
  "wkid": 102100,
  "latestWkid": 3857
 },
 "singleFusedMapCache": true,
 "tileInfo": {
  "rows": 256,
  "cols": 256,
  "dpi": 96,
  "format": "MIXED",
  "compressionQuality": 90,
  "origin": {
   "x": -2.0037508342787E7,
   "y": 2.0037508342787E7
  },
  "spatialReference": {
   "wkid": 102100,
   "latestWkid": 3857
  },
  "lods": [
   {
    "level": 0,
    "resolution": 38.21851414253662,
    "scale": 144447.638572
   },
   {
    "level": 1,
    "resolution": 19.10925707126831,
    "scale": 72223.819286
   },
   {
    "level": 2,
    "resolution": 9.554628535634155,
    "scale": 36111.909643
   },
   {
    "level": 3,
    "resolution": 4.77731426794937,
    "scale": 18055.954822
   },
   {
    "level": 4,
    "resolution": 2.388657133974685,
    "scale": 9027.977411
   },
   {
    "level": 5,
    "resolution": 1.1943285668550503,
    "scale": 4513.988705
   },
   {
    "level": 6,
    "resolution": 0.5971642835598172,
    "scale": 2256.994353
   },
   {
    "level": 7,
    "resolution": 0.29858214164761665,
    "scale": 1128.497176
   },
   {
    "level": 8,
    "resolution": 0.14929144441622216,
    "scale": 564.25
   }
  ]
 },
 "initialExtent": {
  "xmin": -1.251738221225424E7,
  "ymin": 3950501.4762655515,
  "xmax": -1.2475874295905063E7,
  "ymax": 3970715.683360637,
  "spatialReference": {
   "wkid": 102100,
   "latestWkid": 3857
  }
 },
 "fullExtent": {
  "xmin": -1.2521074677321274E7,
  "ymin": 3920328.6940091792,
  "xmax": -1.2470636190446598E7,
  "ymax": 3971773.350276966,
  "spatialReference": {
   "wkid": 102100,
   "latestWkid": 3857
  }
 },
 "minScale": 144447.638572,
 "maxScale": 564.25,
 "units": "esriMeters",
 "supportedImageFormatTypes": "PNG32,PNG24,PNG,JPG,DIB,TIFF,EMF,PS,PDF,GIF,SVG,SVGZ,BMP",
 "documentInfo": {
  "Title": "",
  "Author": "",
  "Comments": "",
  "Subject": "",
  "Category": "",
  "AntialiasingMode": "Best",
  "TextAntialiasingMode": "Force",
